BEGIN:VCALENDAR
VERSION:2.0
PRODID:-//Landhaus Schmalzgrube - ECPv6.15.20//NONSGML v1.0//EN
CALSCALE:GREGORIAN
METHOD:PUBLISH
X-WR-CALNAME:Landhaus Schmalzgrube
X-ORIGINAL-URL:https://landhausschmalzgrube.de
X-WR-CALDESC:Veranstaltungen für Landhaus Schmalzgrube
REFRESH-INTERVAL;VALUE=DURATION:PT1H
X-Robots-Tag:noindex
X-PUBLISHED-TTL:PT1H
BEGIN:VTIMEZONE
TZID:Europe/Helsinki
BEGIN:DAYLIGHT
TZOFFSETFROM:+0200
TZOFFSETTO:+0300
TZNAME:EEST
DTSTART:20250330T010000
END:DAYLIGHT
BEGIN:STANDARD
TZOFFSETFROM:+0300
TZOFFSETTO:+0200
TZNAME:EET
DTSTART:20251026T010000
END:STANDARD
BEGIN:DAYLIGHT
TZOFFSETFROM:+0200
TZOFFSETTO:+0300
TZNAME:EEST
DTSTART:20260329T010000
END:DAYLIGHT
BEGIN:STANDARD
TZOFFSETFROM:+0300
TZOFFSETTO:+0200
TZNAME:EET
DTSTART:20261025T010000
END:STANDARD
BEGIN:DAYLIGHT
TZOFFSETFROM:+0200
TZOFFSETTO:+0300
TZNAME:EEST
DTSTART:20270328T010000
END:DAYLIGHT
BEGIN:STANDARD
TZOFFSETFROM:+0300
TZOFFSETTO:+0200
TZNAME:EET
DTSTART:20271031T010000
END:STANDARD
END:VTIMEZONE
BEGIN:VEVENT
DTSTART;TZID=Europe/Helsinki:20260514T100000
DTEND;TZID=Europe/Helsinki:20260514T230000
DTSTAMP:20260420T160633
CREATED:20260320T153011Z
LAST-MODIFIED:20260320T153011Z
UID:436-1778752800-1778799600@landhausschmalzgrube.de
SUMMARY:Vatertags Frühschoppen
DESCRIPTION:Vatertag wird dieses Jahr gefeiert! 🍻Kommt vorbei zum Frühschoppen im Landhaus Schmalzgrube – mit kühlem Bier\, guter Stimmung & leckerem Essen. \n📅 14. Mai 2026🕙 ab 10 Uhr📍 Mangenberger Str. 356 \n42655 Solingen
URL:https://landhausschmalzgrube.de/event/vatertags-fruehschoppen/
END:VEVENT
END:VCALENDAR