BEGIN:VCALENDAR
VERSION:2.0
PRODID:-//Landhaus Schmalzgrube - ECPv6.15.20//NONSGML v1.0//EN
CALSCALE:GREGORIAN
METHOD:PUBLISH
X-ORIGINAL-URL:https://landhausschmalzgrube.de
X-WR-CALDESC:Veranstaltungen für Landhaus Schmalzgrube
REFRESH-INTERVAL;VALUE=DURATION:PT1H
X-Robots-Tag:noindex
X-PUBLISHED-TTL:PT1H
BEGIN:VTIMEZONE
TZID:Europe/Helsinki
BEGIN:DAYLIGHT
TZOFFSETFROM:+0200
TZOFFSETTO:+0300
TZNAME:EEST
DTSTART:20250330T010000
END:DAYLIGHT
BEGIN:STANDARD
TZOFFSETFROM:+0300
TZOFFSETTO:+0200
TZNAME:EET
DTSTART:20251026T010000
END:STANDARD
BEGIN:DAYLIGHT
TZOFFSETFROM:+0200
TZOFFSETTO:+0300
TZNAME:EEST
DTSTART:20260329T010000
END:DAYLIGHT
BEGIN:STANDARD
TZOFFSETFROM:+0300
TZOFFSETTO:+0200
TZNAME:EET
DTSTART:20261025T010000
END:STANDARD
BEGIN:DAYLIGHT
TZOFFSETFROM:+0200
TZOFFSETTO:+0300
TZNAME:EEST
DTSTART:20270328T010000
END:DAYLIGHT
BEGIN:STANDARD
TZOFFSETFROM:+0300
TZOFFSETTO:+0200
TZNAME:EET
DTSTART:20271031T010000
END:STANDARD
END:VTIMEZONE
BEGIN:VEVENT
DTSTART;TZID=Europe/Helsinki:20260214T100000
DTEND;TZID=Europe/Helsinki:20260214T150000
DTSTAMP:20260420T183533
CREATED:20260119T095516Z
LAST-MODIFIED:20260120T141112Z
UID:332-1771063200-1771081200@landhausschmalzgrube.de
SUMMARY:Karnevals Frühshoppen
DESCRIPTION:🎭🥂 Karnevals-Frühshoppen mit euch! \nAm 14.02.2026 von 10–15 Uhr laden wir euch ins Landhaus Schmalzgrube ein.Freut euch auf entspanntes Shoppen\, leckere Snacks & Getränke – wir freuen uns auf euch! \n  \n 
URL:https://landhausschmalzgrube.de/event/karnevals-fruehshoppen/
LOCATION:Landhaus Schmalzgrube\, Mangenberger Str. 356\, Solingen\, 42655
END:VEVENT
END:VCALENDAR